BEGIN:VCALENDAR
METHOD:PUBLISH
PRODID:-//doubleknot.com//CalenderEvent MIMEDIR//EN
VERSION:2.0
BEGIN:VEVENT
UID:3142837-20260620T120000Z-20260620T210000Z@doubleknot.com
CREATED:20260410T165655Z
LAST-MODIFIED:20260410T165655Z
DTSTAMP:20260423T035615Z
DTSTART:20260620T120000Z
DTEND:20260620T210000Z
LOCATION:400 S Badour Rd, Midland, MI 48640, US
CATEGORIES:
DESCRIPTION:Pick up a scavenger hunt list at the Visitor Center. During your visit, take pictures of the items on the list. Email your photos to CNC to enter a drawing for a prize! \n  \n  \n FREE | All ages, under 18 w/adult  \n 
SUMMARY:Photo Scavenger Hunt
PRIORITY:5
BEGIN:VALARM
TRIGGER:PT15M
ACTION:DISPLAY
DESCRIPTION:Reminder
PRIORITY:5
END:VALARM
END:VEVENT
END:VCALENDAR
