BEGIN:VCALENDAR
METHOD:PUBLISH
PRODID:-//doubleknot.com//CalenderEvent MIMEDIR//EN
VERSION:2.0
BEGIN:VEVENT
UID:3142734-20260630T140000Z-20260630T153000Z@doubleknot.com
CREATED:20260409T152608Z
LAST-MODIFIED:20260409T152608Z
DTSTAMP:20260423T005245Z
DTSTART:20260630T140000Z
DTEND:20260630T153000Z
LOCATION:400 S Badour Rd, Midland, MI 48640, US
CATEGORIES:
DESCRIPTION:Learn the basics of bird watching including how to use binoculars and basic bird identification. Take a short hike to practice your bird spotting skills before creating your own bird feeder to take home! Meet at the Visitor Center. \n  \n  \n FREE | Ages 5+, under 18 w/adult \n 
SUMMARY:Intro to Birding for Kids
PRIORITY:5
BEGIN:VALARM
TRIGGER:PT15M
ACTION:DISPLAY
DESCRIPTION:Reminder
PRIORITY:5
END:VALARM
END:VEVENT
END:VCALENDAR
