BEGIN:VCALENDAR
METHOD:PUBLISH
PRODID:-//doubleknot.com//CalenderEvent MIMEDIR//EN
VERSION:2.0
BEGIN:VEVENT
UID:3142731-20260623T170000Z-20260623T183000Z@doubleknot.com
CREATED:20260409T152145Z
LAST-MODIFIED:20260409T152654Z
DTSTAMP:20260423T005015Z
DTSTART:20260623T170000Z
DTEND:20260623T183000Z
LOCATION:400 S Badour Rd, Midland, MI 48640, US
CATEGORIES:
DESCRIPTION:Explore a section of the nature center&rsquo;s trails at a leisurely pace, taking time to notice the small and interesting things! Participants are encouraged to bring a notebook/journal to document their findings. Meet at the River Point trailhead. \n  \n  \n FREE | Ages 15+, under 18 w/adult  \n 
SUMMARY:Wander and Wonder Hike
PRIORITY:5
BEGIN:VALARM
TRIGGER:PT15M
ACTION:DISPLAY
DESCRIPTION:Reminder
PRIORITY:5
END:VALARM
END:VEVENT
END:VCALENDAR
