BEGIN:VCALENDAR
METHOD:PUBLISH
PRODID:-//doubleknot.com//CalenderEvent MIMEDIR//EN
VERSION:2.0
BEGIN:VEVENT
UID:3142730-20260619T140000Z-20260619T150000Z@doubleknot.com
CREATED:20260409T151804Z
LAST-MODIFIED:20260409T152716Z
DTSTAMP:20260423T042620Z
DTSTART:20260619T140000Z
DTEND:20260619T150000Z
LOCATION:400 S Badour Rd, Midland, MI 48640, US
CATEGORIES:
DESCRIPTION:Put your building skills to work while creating a debris shelter. Working together with other participants, we will construct a neat shelter out of materials we find in the forest. Meet at the Woods Play Area. \n  \n  \n FREE | Ages 5+, under 18 w/adult  \n 
SUMMARY:Shelter Building
PRIORITY:5
BEGIN:VALARM
TRIGGER:PT15M
ACTION:DISPLAY
DESCRIPTION:Reminder
PRIORITY:5
END:VALARM
END:VEVENT
END:VCALENDAR
