BEGIN:VCALENDAR
METHOD:PUBLISH
PRODID:-//doubleknot.com//CalenderEvent MIMEDIR//EN
VERSION:2.0
BEGIN:VEVENT
UID:3126776-20260628T170000Z-20260628T210000Z@doubleknot.com
CREATED:20251126T193434Z
LAST-MODIFIED:20251126T193531Z
DTSTAMP:20260423T004147Z
DTSTART:20260628T170000Z
DTEND:20260628T210000Z
LOCATION:400 S. Badour Rd., Midland, MI 48640, US
CATEGORIES:
DESCRIPTION: \n  \n  \n Discover the different pollinators that visit the gardens on the farm and learn how to help them flourish. Visit the nearby hives and learn about honeybees. Enjoy a scavenger hunt as you look for pollinators and the flowers they rely on! \n  \n  \n Step back in time at CNC&#39;s log cabin, timber frame barn and one-room school for a family-friendly afternoon at the Homestead Farm and Log Schoolhouse. Weekly themed activities will be available throughout the afternoon. You may get to try your hand at grinding corn, pumping water, writing on a slate board, working in the garden, tilling the field or watering the animals. \n  \n  \n The Homestead and Schoolhouse will be open Sundays in June, July and August. Find full details at www.chippewanaturecenter.org/homestead-sundays \n  \n  \n FREE | All ages, under 18 w/adult \n 
SUMMARY:Homestead Sunday: Bees and Pollinators
PRIORITY:5
BEGIN:VALARM
TRIGGER:PT15M
ACTION:DISPLAY
DESCRIPTION:Reminder
PRIORITY:5
END:VALARM
END:VEVENT
END:VCALENDAR
