BEGIN:VCALENDAR
METHOD:PUBLISH
PRODID:-//doubleknot.com//CalenderEvent MIMEDIR//EN
VERSION:2.0
BEGIN:VEVENT
UID:3126774-20260625T140000Z-20260625T150000Z@doubleknot.com
CREATED:20251126T193208Z
LAST-MODIFIED:20251126T193208Z
DTSTAMP:20260423T004350Z
DTSTART:20260625T140000Z
DTEND:20260625T150000Z
LOCATION:400 S Badour Rd, Midland, MI 48640, US
CATEGORIES:
DESCRIPTION:Meet an Interpretive Naturalist at the end of Homestead Road at the Lanigan Pavilion to learn about what makes insects special. We will visit different habitats to see what insects we can catch and observe. \n  \n  \n FREE | All ages, under 18 w/adult \n 
SUMMARY:Investigating Insects
PRIORITY:5
BEGIN:VALARM
TRIGGER:PT15M
ACTION:DISPLAY
DESCRIPTION:Reminder
PRIORITY:5
END:VALARM
END:VEVENT
END:VCALENDAR
