BEGIN:VCALENDAR
METHOD:PUBLISH
PRODID:-//doubleknot.com//CalenderEvent MIMEDIR//EN
VERSION:2.0
BEGIN:VEVENT
UID:3126771-20260621T170000Z-20260621T210000Z@doubleknot.com
CREATED:20251126T191817Z
LAST-MODIFIED:20251126T191930Z
DTSTAMP:20260423T040815Z
DTSTART:20260621T170000Z
DTEND:20260621T210000Z
LOCATION:400 S. Badour Rd., Midland, MI 48640, US
CATEGORIES:
DESCRIPTION: \n  \n  \n How did farmers get their chores done on the farm? Stop by and learn how simple machines helped them to complete their many tasks. Visit the toolshed to see levers in action. How many wheels and axles can you find in the kitchen? Explore the gardens to learn how a wedge can be helpful in planting. \n  \n  \n Step back in time at CNC&#39;s log cabin, timber frame barn and one-room school for a family-friendly afternoon at the Homestead Farm and Log Schoolhouse. Weekly themed activities will be available throughout the afternoon. You may get to try your hand at grinding corn, pumping water, writing on a slate board, working in the garden, tilling the field or watering the animals. \n  \n  \n The Homestead and Schoolhouse will be open Sundays in June, July and August. Find full details at www.chippewanaturecenter.org/homestead-sundays \n  \n  \n FREE | All ages, under 18 w/adult \n 
SUMMARY:Homestead Sunday: Simple Machines
PRIORITY:5
BEGIN:VALARM
TRIGGER:PT15M
ACTION:DISPLAY
DESCRIPTION:Reminder
PRIORITY:5
END:VALARM
END:VEVENT
END:VCALENDAR
