BEGIN:VCALENDAR
METHOD:PUBLISH
PRODID:-//doubleknot.com//CalenderEvent MIMEDIR//EN
VERSION:2.0
BEGIN:VEVENT
UID:3126766-20260617T013000Z-20260617T023000Z@doubleknot.com
CREATED:20251126T190628Z
LAST-MODIFIED:20251126T190814Z
DTSTAMP:20260423T055953Z
DTSTART:20260617T013000Z
DTEND:20260617T023000Z
LOCATION:400 S. Badour Road, Midland, MI 48640, US
CATEGORIES:Drop-in Programs
DESCRIPTION: \n Meet an Interpretive Naturalist at the end of Homestead Road at the Lanigan Pavilion to learn about our native fireflies and watch them light up the fields and forests of CNC. \n  \n  \n FREE | 9+, under 18 w/adult \n  \n 
SUMMARY:Firefly Frenzy
PRIORITY:5
BEGIN:VALARM
TRIGGER:PT15M
ACTION:DISPLAY
DESCRIPTION:Reminder
PRIORITY:5
END:VALARM
END:VEVENT
END:VCALENDAR
